BEGIN:VCALENDAR
VERSION:2.0
PRODID:-//Crown Hill Village Association - ECPv6.15.20//NONSGML v1.0//EN
CALSCALE:GREGORIAN
METHOD:PUBLISH
X-WR-CALNAME:Crown Hill Village Association
X-ORIGINAL-URL:https://www.crownhillvillage.org
X-WR-CALDESC:Events for Crown Hill Village Association
REFRESH-INTERVAL;VALUE=DURATION:PT1H
X-Robots-Tag:noindex
X-PUBLISHED-TTL:PT1H
BEGIN:VTIMEZONE
TZID:America/Los_Angeles
BEGIN:DAYLIGHT
TZOFFSETFROM:-0800
TZOFFSETTO:-0700
TZNAME:PDT
DTSTART:20190310T100000
END:DAYLIGHT
BEGIN:STANDARD
TZOFFSETFROM:-0700
TZOFFSETTO:-0800
TZNAME:PST
DTSTART:20191103T090000
END:STANDARD
BEGIN:DAYLIGHT
TZOFFSETFROM:-0800
TZOFFSETTO:-0700
TZNAME:PDT
DTSTART:20200308T100000
END:DAYLIGHT
BEGIN:STANDARD
TZOFFSETFROM:-0700
TZOFFSETTO:-0800
TZNAME:PST
DTSTART:20201101T090000
END:STANDARD
BEGIN:DAYLIGHT
TZOFFSETFROM:-0800
TZOFFSETTO:-0700
TZNAME:PDT
DTSTART:20210314T100000
END:DAYLIGHT
BEGIN:STANDARD
TZOFFSETFROM:-0700
TZOFFSETTO:-0800
TZNAME:PST
DTSTART:20211107T090000
END:STANDARD
END:VTIMEZONE
BEGIN:VEVENT
DTSTART;TZID=America/Los_Angeles:20200224T173000
DTEND;TZID=America/Los_Angeles:20200224T193000
DTSTAMP:20260422T105147
CREATED:20200220T184325Z
LAST-MODIFIED:20210518T210831Z
UID:12381-1582565400-1582572600@www.crownhillvillage.org
SUMMARY:Business Meetup - Social Media
DESCRIPTION:We are excited to welcome the social media manager for The Dane and Crown Hill Market vendor Ankira Designs. They will share their process for running an engaging social media campaign. Bring your questions and knowledge\, leave with some new followers.  \nDrop by for a few minutes or the whole time. This is a casual opportunity to talk with other business owners. Conversation not limited to social media. Store front businesses\, living room businesses – we welcome all Crown Hill Business Owners. \nPlease take a moment to fill out our survey!
URL:https://www.crownhillvillage.org/event/business-meetup-social-media/
LOCATION:Crown Hill Broiler\, 8037 15th Ave NW\, seattle\, WA\, 98117\, United States
CATEGORIES:Business
ATTACH;FMTTYPE=image/png:https://www.crownhillvillage.org/site/wp-content/uploads/2020/02/Untitled-design-6.png
END:VEVENT
END:VCALENDAR